BEGIN:VCALENDAR
VERSION:2.0
PRODID:-//Billing Simplified - ECPv6.15.20//NONSGML v1.0//EN
CALSCALE:GREGORIAN
METHOD:PUBLISH
X-WR-CALNAME:Billing Simplified
X-ORIGINAL-URL:https://billingsimplified.com
X-WR-CALDESC:Events for Billing Simplified
REFRESH-INTERVAL;VALUE=DURATION:PT1H
X-Robots-Tag:noindex
X-PUBLISHED-TTL:PT1H
BEGIN:VTIMEZONE
TZID:America/Chicago
BEGIN:DAYLIGHT
TZOFFSETFROM:-0600
TZOFFSETTO:-0500
TZNAME:CDT
DTSTART:20210314T080000
END:DAYLIGHT
BEGIN:STANDARD
TZOFFSETFROM:-0500
TZOFFSETTO:-0600
TZNAME:CST
DTSTART:20211107T070000
END:STANDARD
BEGIN:DAYLIGHT
TZOFFSETFROM:-0600
TZOFFSETTO:-0500
TZNAME:CDT
DTSTART:20220313T080000
END:DAYLIGHT
BEGIN:STANDARD
TZOFFSETFROM:-0500
TZOFFSETTO:-0600
TZNAME:CST
DTSTART:20221106T070000
END:STANDARD
BEGIN:DAYLIGHT
TZOFFSETFROM:-0600
TZOFFSETTO:-0500
TZNAME:CDT
DTSTART:20230312T080000
END:DAYLIGHT
BEGIN:STANDARD
TZOFFSETFROM:-0500
TZOFFSETTO:-0600
TZNAME:CST
DTSTART:20231105T070000
END:STANDARD
BEGIN:DAYLIGHT
TZOFFSETFROM:-0600
TZOFFSETTO:-0500
TZNAME:CDT
DTSTART:20240310T080000
END:DAYLIGHT
BEGIN:STANDARD
TZOFFSETFROM:-0500
TZOFFSETTO:-0600
TZNAME:CST
DTSTART:20241103T070000
END:STANDARD
END:VTIMEZONE
BEGIN:VTIMEZONE
TZID:America/New_York
BEGIN:DAYLIGHT
TZOFFSETFROM:-0500
TZOFFSETTO:-0400
TZNAME:EDT
DTSTART:20210314T070000
END:DAYLIGHT
BEGIN:STANDARD
TZOFFSETFROM:-0400
TZOFFSETTO:-0500
TZNAME:EST
DTSTART:20211107T060000
END:STANDARD
BEGIN:DAYLIGHT
TZOFFSETFROM:-0500
TZOFFSETTO:-0400
TZNAME:EDT
DTSTART:20220313T070000
END:DAYLIGHT
BEGIN:STANDARD
TZOFFSETFROM:-0400
TZOFFSETTO:-0500
TZNAME:EST
DTSTART:20221106T060000
END:STANDARD
BEGIN:DAYLIGHT
TZOFFSETFROM:-0500
TZOFFSETTO:-0400
TZNAME:EDT
DTSTART:20230312T070000
END:DAYLIGHT
BEGIN:STANDARD
TZOFFSETFROM:-0400
TZOFFSETTO:-0500
TZNAME:EST
DTSTART:20231105T060000
END:STANDARD
BEGIN:DAYLIGHT
TZOFFSETFROM:-0500
TZOFFSETTO:-0400
TZNAME:EDT
DTSTART:20240310T070000
END:DAYLIGHT
BEGIN:STANDARD
TZOFFSETFROM:-0400
TZOFFSETTO:-0500
TZNAME:EST
DTSTART:20241103T060000
END:STANDARD
END:VTIMEZONE
BEGIN:VEVENT
DTSTART;TZID=America/Chicago:20230323T170000
DTEND;TZID=America/Chicago:20230324T160000
DTSTAMP:20260420T182001
CREATED:20230304T205323Z
LAST-MODIFIED:20230304T205323Z
UID:501887-1679590800-1679673600@billingsimplified.com
SUMMARY:Live! Dental Sleep Billing for Success
DESCRIPTION:Everything you need to know about dental sleep medical billing to ensure that you get paid.\n\n\nAre you excited about Dental Sleep Medicine but can’t seem to navigate the challenges of medical billing?\nJoin our Medical Billing Expert\, Lisa Fischer-Herdt\, CPB for her medical billing course. Lisa’s 25+ years of experience will bring you detailed information on how to bill and collect from medical insurance and Medicare. In this course\, attendees will learn the tips\, tools\, and techniques needed to simplify processes\, manage financial arrangements\, and maximize profitability for your life-saving treatment.   \n \nLEARNING OBJECTIVES:\n\nDefine the patient’s financial responsibility before the consult\nOverview of the claims process\nDifferentiate between Medicare\, Medicare Advantage\, and Commercial Plans\nDetermine when pre-authorization is required\nDecide when to Accept Assignment of Benefits\nExpedite claims processing through proper case documentation\nStreamline claims follow-up process\nReverse insurance company denials\nUnderstand when balance billing is appropriate\n\nWHAT’S INCLUDED?\n\nHappy hour on night one\, breakfast and lunch on day two\n6 Hours of CE\nH﻿ands-on education from one of the industry’s most knowledgeable dental sleep billing experts\nN﻿etwork with fellow dental professionals in the DSM community\n\n\n\nSCHEDULE:\nThursday\, March 23rd:  \n5:00 PM – 6:30 PM\n\nM﻿eet your fellow dentists\, chat with our team\, and enjoy a fun happy hour on us!\n\nFriday\, March 24th:  \n9:00 AM – 4:00 PM (Lunch is provided 12:00 PM – 1:00 PM)\n\nK﻿ickstart your day and join us for breakfast\nH﻿ear from Lisa as she gives you an in-depth look at at medical billing and how you can develop financial systems to get paid for dental sleep therapy\n\n\n\n\nSPEAKER: Lisa Fischer-Herdt\, CPB\nLisa Fischer-Herdt\, CPB\, is the Director of Member Communications at Dental Sleep Solutions and 4 Pillar Billing. With nearly 25+ years of medical billing experience\, she is a leader in her field. Her extreme diligence and attention to detail makes her a cut above the rest. Lisa keeps current on the ever changing world of Medical Billing to ensure all of the latest regulations are implemented\, and every possible dollar is collected. She prides herself on hiring the right people to work at both Dental Sleep Solutions and 4 Pillar Billing\, and it shows in our success. Lisa’s hands-on management is second to none\, and her dedication to our member’s success is unsurpassed.\n\n\n\nLisa served as an Adjunct Professor at ATA College in Louisville\, KY and currently serves on the Manatee Tech College Advisory Board. She is also a Certified Professional Biller and a member of the AAPC(American Academy of Professional Coders).\n\n\nDental Sleep Solutions – Nationally Approved PACE Program Provider for FAGD/MAGD Credit. Approval does not imply acceptance by any regulatory authority or AGD endorsement.  \n9/1/2019 to 8/31/2023 Provider ID#: 342401 \n______________________________________________________________________________ \nQUESTIONS: \nPlease reach out to us at info@dentalsleepsolutions.com.
URL:https://billingsimplified.com/event/live-dental-sleep-billing-for-success/
LOCATION:Hotel Contessa (Palm Room)\, 306 West Market Street\, San Antonio\, TX\, 78205\, United States
CATEGORIES:Medical Billing
ATTACH;FMTTYPE=image/jpeg:https://billingsimplified.com/wp-content/uploads/2023/03/934b5802c0fbd2ff50166a41314dbb67.jpg
END:VEVENT
BEGIN:VEVENT
DTSTART;TZID=America/New_York:20230315T120000
DTEND;TZID=America/New_York:20230315T130000
DTSTAMP:20260420T182001
CREATED:20230304T205622Z
LAST-MODIFIED:20230304T205622Z
UID:501895-1678881600-1678885200@billingsimplified.com
SUMMARY:Sneak Peek Medical Billing Study Club
DESCRIPTION:Get an exclusive invite to our DS3 members-only monthly medical billing study club!\n\n\nCreated with your team in mind\, we talk all things medical billing\, software tips\, and other topics that will streamline your workflow. \nWelcome to our monthly medical billing study club\, or\, as we call it\, Snooze Button! Normally\, this webinar is only open to our DS3 or 4 Pillar Billing members\, but just this once we’re opening it up to dental professionals like you.  \nJoin our community of members and our medical billing expert Charlotte LaFrance to  talk all things medical billing for your dental sleep practice. We guarantee you’ll leave this study club having learned new and easier ways to simplify your medical billing processes from peers just like you. \nThe Snooze Button is designed with the dental team in mind\, but dentists are always welcome to the conversation. It’s time to “Sleep Talk”!
URL:https://billingsimplified.com/event/sneak-peek-medical-billing-study-club/
LOCATION:PA
CATEGORIES:Medical Billing
ATTACH;FMTTYPE=image/jpeg:https://billingsimplified.com/wp-content/uploads/2023/03/b8c67fa72c5b68f07c829e9e2a129f2b.jpg
END:VEVENT
BEGIN:VEVENT
DTSTART;TZID=America/New_York:20230311T090000
DTEND;TZID=America/New_York:20230312T160000
DTSTAMP:20260420T182001
CREATED:20221119T194738Z
LAST-MODIFIED:20221119T214458Z
UID:501494-1678525200-1678636800@billingsimplified.com
SUMMARY:Practice Start Up & Medical Billing For Mental Health Providers
DESCRIPTION:Two day extensive \,in-depth course that teaches the entire medical billing process\, for mental health providers opening a private practices.\n\n\nWho this course/event is for:\nNew or fairly new practices that are struggling with revenue\, insurance rejections\, patient collections and claims processing and have no idea how or what to do with their billing\nNew or fairly new practices that are having issues accounting for the overall picture of their revenue and tracking it\nProviders that are considering starting a private practice but have no idea where or how to start\nProviders in private practice needing guidance on billing but not yet able to hire a biller or billing service\nPractices with High Patient & Insurance balances and no idea what to do next or how to collect on them\nANYONE who is struggling overall in their new or fairly new practice with their revenue or rejections
URL:https://billingsimplified.com/event/practice-start-up-medical-billing-for-mental-health-providers/
LOCATION:Courtyard by Marriott Atlantic City Beach Block\, 1212 Pacific Avenue\, Atlantic City\, NJ\, 08401\, United States
CATEGORIES:Medical Billing
ATTACH;FMTTYPE=image/jpeg:https://billingsimplified.com/wp-content/uploads/2022/11/practice-start-up-medical-billing-conference.jpg
END:VEVENT
BEGIN:VEVENT
DTSTART;TZID=America/New_York:20230307T130000
DTEND;TZID=America/New_York:20230307T153000
DTSTAMP:20260420T182001
CREATED:20230304T205224Z
LAST-MODIFIED:20230304T205224Z
UID:501882-1678194000-1678203000@billingsimplified.com
SUMMARY:"ONLINE TRAINING  #3: BILLING "Homecare Agency Billing"
DESCRIPTION:** IF YOU ARE NOT A LIBERTY CLIENT\, ANY TICKET  YOU RECEIVE WILL BE VOIDED 24 HOURS BEFORE THE TRAINING AND NO CALL-IN PIN WILL BE ISSUED **\n\n\nLOCATION:  THIS WORKSHOP IS ONLINE ONLY  \nBILLING TRAINING WORKSHOP AGENDA: \n♣ Funding your new Homecare Agency\n \n♣ Homecare Agency Billing Cycle Explained (Make sure you get paid)\n \n♣ What to do AFTER a new Private sign’s up with your Agency\n \n♣ What to do AFTER a new Medicaid Patient sign’s up with your Agency\n \n♣ Patient Funding Sources Explained\n \n♣ Patient Funding Sources Breakdown (why a single fund system wont work)\n \n♣ What Services you can bill Private Pay Patients\n \n♣ What Services you can bill Medicaid Patients\n \n♣ Electronic Visit Verification System Explained\n \n♣ Credit Terms to offer Private Pay Patients\n \n♣ What you SHOULD be doing while waiting for Medicaid\n \nTHIS A CLIENT WORKSHOP CLOSED TO THE GENERAL PUBLIC: ** IF YOU ARE NOT A LIBERTY CLIENT\, ANY TICKET WILL BE VOID AND NO CALL-IN PIN WILL BE ISSUED **
URL:https://billingsimplified.com/event/online-training-3-billing-homecare-agency-billing/
LOCATION:“CONFERENCE CALL ONLY”\, 8230 Frankford Avenue\, Suite 8\, Philadelphia\, PA\, 19136\, United States
CATEGORIES:Medical Billing
ATTACH;FMTTYPE=image/jpeg:https://billingsimplified.com/wp-content/uploads/2023/03/b969bc830be0fc99b88050904e1be61f.jpg
END:VEVENT
BEGIN:VEVENT
DTSTART;TZID=America/New_York:20221215T103000
DTEND;TZID=America/New_York:20221215T133000
DTSTAMP:20260420T182001
CREATED:20221129T030632Z
LAST-MODIFIED:20221129T030632Z
UID:501673-1671100200-1671111000@billingsimplified.com
SUMMARY:Train for a new career as a Medical Billing & Coding Specialist
DESCRIPTION:Train for an in-demand healthcare career in medical billing and coding and prepare for industry certification in this course.\n\n\nWhether you’re just starting work or transitioning into a different field\, there has never been a better time to enter a career in Medical Billing and Coding. This course will prepare you for success in this rewarding career as you learn about legal\, ethical\, and regulatory concepts central to this field\, including HIPAA compliance\, official coding guidelines\, and third-party payer requirements. You will also be able to choose a voucher for the professional certification that best aligns with your interests and career goals. \n\n\n\nE﻿nroll today\, Begin today!  Registration information https://careertraining.ed2go.com/tlm/training-programs/medical-billing-coding-voucher-included/Registration Information
URL:https://billingsimplified.com/event/train-for-a-new-career-as-a-medical-billing-coding-specialist/
LOCATION:PA
CATEGORIES:Medical Billing
END:VEVENT
BEGIN:VEVENT
DTSTART;TZID=America/Chicago:20221205T080000
DTEND;TZID=America/Chicago:20221206T170000
DTSTAMP:20260420T182001
CREATED:20221129T033854Z
LAST-MODIFIED:20221129T033855Z
UID:501674-1670227200-1670346000@billingsimplified.com
SUMMARY:CROWN Radiation Oncology Billing
DESCRIPTION:What changes in cardiology coding will 2023 bring? Find out in this session as you examine coding guidelines and bundling issues related to a wide range of cardiology services including cardiac catheterization\, pacemakers and ICDs\, and electrophysiology services. \n\n\n\n\nUnderstanding the ins and outs of coding and billing for cardiac monitoring devices\, pacemakers\, and defibrillators\n\n\n\nChallenging cardiac catheterizations and percutaneous interventions\n\n\n\nNuances of peripheral procedures – vascular\, angiography with heart catheterization and interventions
URL:https://billingsimplified.com/event/crown-radiation-oncology-billing/
LOCATION:Hilton Philadelphia at Penn’s Landing\, 201 S. Christopher Columbus Blvd.\, Philadelphia\, Pennsylvania\, 19106\, United States
CATEGORIES:Medical Billing
ATTACH;FMTTYPE=image/png:https://billingsimplified.com/wp-content/uploads/2022/11/crown-event-december-2022.png
END:VEVENT
END:VCALENDAR